BEGIN:VCALENDAR
VERSION:2.0
PRODID:-//Oregon Country Fair Family - ECPv6.15.9//NONSGML v1.0//EN
CALSCALE:GREGORIAN
METHOD:PUBLISH
X-WR-CALNAME:Oregon Country Fair Family
X-ORIGINAL-URL:https://oregoncountryfair.net
X-WR-CALDESC:Events for Oregon Country Fair Family
REFRESH-INTERVAL;VALUE=DURATION:PT1H
X-Robots-Tag:noindex
X-PUBLISHED-TTL:PT1H
BEGIN:VTIMEZONE
TZID:America/Los_Angeles
BEGIN:DAYLIGHT
TZOFFSETFROM:-0800
TZOFFSETTO:-0700
TZNAME:PDT
DTSTART:20210314T100000
END:DAYLIGHT
BEGIN:STANDARD
TZOFFSETFROM:-0700
TZOFFSETTO:-0800
TZNAME:PST
DTSTART:20211107T090000
END:STANDARD
BEGIN:DAYLIGHT
TZOFFSETFROM:-0800
TZOFFSETTO:-0700
TZNAME:PDT
DTSTART:20220313T100000
END:DAYLIGHT
BEGIN:STANDARD
TZOFFSETFROM:-0700
TZOFFSETTO:-0800
TZNAME:PST
DTSTART:20221106T090000
END:STANDARD
BEGIN:DAYLIGHT
TZOFFSETFROM:-0800
TZOFFSETTO:-0700
TZNAME:PDT
DTSTART:20230312T100000
END:DAYLIGHT
BEGIN:STANDARD
TZOFFSETFROM:-0700
TZOFFSETTO:-0800
TZNAME:PST
DTSTART:20231105T090000
END:STANDARD
END:VTIMEZONE
BEGIN:VEVENT
DTSTART;TZID=America/Los_Angeles:20220328T180000
DTEND;TZID=America/Los_Angeles:20220328T210000
DTSTAMP:20260422T062038
CREATED:20210903T222353Z
LAST-MODIFIED:20211229T003328Z
UID:4791-1648490400-1648501200@oregoncountryfair.net
SUMMARY:Diversity Committee
DESCRIPTION:Topic: Diversity Committee Monthly MeetingTime: 6:00 PM – 9:00 PM \nJoin Zoom Meetinghttps://us02web.zoom.us/j/85122675271 \nMeeting ID: 851 2267 5271One tap mobile+16699006833\,\,85122675271# US (San Jose)+12532158782\,\,85122675271# US (Tacoma) \nDial by your location+1 669 900 6833 US (San Jose)+1 253 215 8782 US (Tacoma)+1 346 248 7799 US (Houston)+1 929 205 6099 US (New York)+1 301 715 8592 US (Washington DC)+1 312 626 6799 US (Chicago)Meeting ID: 851 2267 5271Find your local number: https://us02web.zoom.us/u/kbh4s2GqgY
URL:https://oregoncountryfair.net/event/diversity-committee-31/
CATEGORIES:Diversity Committee
END:VEVENT
END:VCALENDAR