BEGIN:VCALENDAR
VERSION:2.0
PRODID:-//Oregon Country Fair Family - ECPv6.15.9//NONSGML v1.0//EN
CALSCALE:GREGORIAN
METHOD:PUBLISH
X-WR-CALNAME:Oregon Country Fair Family
X-ORIGINAL-URL:https://oregoncountryfair.net
X-WR-CALDESC:Events for Oregon Country Fair Family
REFRESH-INTERVAL;VALUE=DURATION:PT1H
X-Robots-Tag:noindex
X-PUBLISHED-TTL:PT1H
BEGIN:VTIMEZONE
TZID:America/Los_Angeles
BEGIN:DAYLIGHT
TZOFFSETFROM:-0800
TZOFFSETTO:-0700
TZNAME:PDT
DTSTART:20200308T100000
END:DAYLIGHT
BEGIN:STANDARD
TZOFFSETFROM:-0700
TZOFFSETTO:-0800
TZNAME:PST
DTSTART:20201101T090000
END:STANDARD
BEGIN:DAYLIGHT
TZOFFSETFROM:-0800
TZOFFSETTO:-0700
TZNAME:PDT
DTSTART:20210314T100000
END:DAYLIGHT
BEGIN:STANDARD
TZOFFSETFROM:-0700
TZOFFSETTO:-0800
TZNAME:PST
DTSTART:20211107T090000
END:STANDARD
BEGIN:DAYLIGHT
TZOFFSETFROM:-0800
TZOFFSETTO:-0700
TZNAME:PDT
DTSTART:20220313T100000
END:DAYLIGHT
BEGIN:STANDARD
TZOFFSETFROM:-0700
TZOFFSETTO:-0800
TZNAME:PST
DTSTART:20221106T090000
END:STANDARD
END:VTIMEZONE
BEGIN:VEVENT
DTSTART;TZID=America/Los_Angeles:20210626T120000
DTEND;TZID=America/Los_Angeles:20210626T130000
DTSTAMP:20260424T025239
CREATED:20210624T223640Z
LAST-MODIFIED:20210624T233350Z
UID:4414-1624708800-1624712400@oregoncountryfair.net
SUMMARY:2021 Concert/Fundraiser Proposal
DESCRIPTION:Our Fair Back-up Managers have prepared a proposal for a September concert on OCF property featuring some of OCF’s favorite bands\, acts\, and food booths! It would raise much needed funds for our organization—and be a blast! Join the GoTo Meeting below on Saturday June 26th from 12pm to 1pm to learn more about it and ask your questions. This proposal will be going to the OCF Board of Directors for a decision on Sunday June 27th. \n••••••• READ THE PROPOSAL HERE \nJoin this GoTo Meeting \nConcert/Fundraiser Proposal\nSat\, Jun 26\, 2021 12:00 PM – 1:00 PM (PDT)  \nPlease join my meeting from your computer\, tablet or smartphone.\nhttps://global.gotomeeting.com/join/979461485  \nYou can also dial in using your phone.\nUnited States: +1 (408) 650-3123 \nAccess Code: 979-461-485
URL:https://oregoncountryfair.net/event/learn-about-the-september-2021-concert-fundraiser-proposal/
END:VEVENT
END:VCALENDAR