BEGIN:VCALENDAR
VERSION:2.0
PRODID:-//Oregon Country Fair Family - ECPv6.15.9//NONSGML v1.0//EN
CALSCALE:GREGORIAN
METHOD:PUBLISH
X-WR-CALNAME:Oregon Country Fair Family
X-ORIGINAL-URL:https://oregoncountryfair.net
X-WR-CALDESC:Events for Oregon Country Fair Family
REFRESH-INTERVAL;VALUE=DURATION:PT1H
X-Robots-Tag:noindex
X-PUBLISHED-TTL:PT1H
BEGIN:VTIMEZONE
TZID:America/Los_Angeles
BEGIN:DAYLIGHT
TZOFFSETFROM:-0800
TZOFFSETTO:-0700
TZNAME:PDT
DTSTART:20240310T100000
END:DAYLIGHT
BEGIN:STANDARD
TZOFFSETFROM:-0700
TZOFFSETTO:-0800
TZNAME:PST
DTSTART:20241103T090000
END:STANDARD
BEGIN:DAYLIGHT
TZOFFSETFROM:-0800
TZOFFSETTO:-0700
TZNAME:PDT
DTSTART:20250309T100000
END:DAYLIGHT
BEGIN:STANDARD
TZOFFSETFROM:-0700
TZOFFSETTO:-0800
TZNAME:PST
DTSTART:20251102T090000
END:STANDARD
BEGIN:DAYLIGHT
TZOFFSETFROM:-0800
TZOFFSETTO:-0700
TZNAME:PDT
DTSTART:20260308T100000
END:DAYLIGHT
BEGIN:STANDARD
TZOFFSETFROM:-0700
TZOFFSETTO:-0800
TZNAME:PST
DTSTART:20261101T090000
END:STANDARD
END:VTIMEZONE
BEGIN:VEVENT
DTSTART;TZID=America/Los_Angeles:20250916T180000
DTEND;TZID=America/Los_Angeles:20250916T200000
DTSTAMP:20260420T072110
CREATED:20250806T193808Z
LAST-MODIFIED:20250806T193811Z
UID:12279-1758045600-1758052800@oregoncountryfair.net
SUMMARY:LUMP Committee Meeting
DESCRIPTION:This is an online LUMP Committee Meeting. \n\n\n\n \n\n\n\n\n\nJoin Zoom Meetinghttps://us06web.zoom.us/j/89787867504?pwd=a3dJojbdr84JG8qtvazq4pke2Lgybb.1 \n\n\n\nMeeting ID: 897 8786 7504Passcode: 065524 \n\n\n\n\n\n\n\nOne tap mobile+12532050468\,\,89787867504#\,\,\,\,065524# US +12532158782\,\,89787867504#\,\,\,\,065524# US (Tacoma) \n\n\n\n\n\n\n\nFind your local number:  \n\n\n\nhttps://us06web.zoom.us/u/kdZlbapvlj \n\n\n\n\n\nDial by your location \n\n\n\n\n+1 253 205 0468 US\n\n\n\n+1 253 215 8782 US (Tacoma)\n\n\n\n+1 346 248 7799 US (Houston)\n\n\n\n+1 669 444 9171 US\n\n\n\n+1 669 900 6833 US (San Jose)\n\n\n\n+1 719 359 4580 US\n\n\n\n+1 507 473 4847 US\n\n\n\n+1 564 217 2000 US\n\n\n\n+1 646 931 3860 US\n\n\n\n+1 689 278 1000 US\n\n\n\n+1 929 205 6099 US (New York)\n\n\n\n+1 301 715 8592 US (Washington DC)\n\n\n\n+1 305 224 1968 US\n\n\n\n+1 309 205 3325 US\n\n\n\n+1 312 626 6799 US (Chicago)\n\n\n\n+1 360 209 5623 US\n\n\n\n+1 386 347 5053 US
URL:https://oregoncountryfair.net/event/lump-committee-meeting-19/
END:VEVENT
END:VCALENDAR